BEGIN:VCALENDAR
VERSION:2.0
PRODID:-//ChamberMaster//Event Calendar 2.0//EN
METHOD:PUBLISH
X-PUBLISHED-TTL:P3D
REFRESH-INTERVAL:P3D
CALSCALE:GREGORIAN
BEGIN:VEVENT
DTSTART:20140401T163000Z
DTEND:20140401T170000Z
X-MICROSOFT-CDO-ALLDAYEVENT:FALSE
SUMMARY:RC: High Velocity
DESCRIPTION:RC: High Velocity (111 Pruitt Lane\, Pearl)
X-ALT-DESC;FMTTYPE=text/html:RC: High Velocity (111 Pruitt Lane\, Pearl)
LOCATION:
UID:e.1412.614
SEQUENCE:3
DTSTAMP:20260422T135201Z
URL:https://business.rankinchamber.com/events/details/rc-high-velocity-04-01-2014-614
END:VEVENT

END:VCALENDAR
