BEGIN:VCALENDAR
VERSION:2.0
PRODID:-//ChamberMaster//Event Calendar 2.0//EN
METHOD:PUBLISH
X-PUBLISHED-TTL:P3D
REFRESH-INTERVAL:P3D
CALSCALE:GREGORIAN
BEGIN:VEVENT
DTSTART:20140501T150000Z
DTEND:20140501T153000Z
X-MICROSOFT-CDO-ALLDAYEVENT:FALSE
SUMMARY:RC: Hollingsworth Electric
DESCRIPTION:RC: Hollingsworth Electric (Chamber\, 101 Service Drive\, Brandon)
X-ALT-DESC;FMTTYPE=text/html:RC: Hollingsworth Electric (Chamber\, 101 Service Drive\, Brandon)
LOCATION:
UID:e.1412.630
SEQUENCE:3
DTSTAMP:20260422T123817Z
URL:https://business.rankinchamber.com/events/details/rc-hollingsworth-electric-05-01-2014-630
END:VEVENT

END:VCALENDAR
