BEGIN:VCALENDAR
VERSION:2.0
PRODID:-//ChamberMaster//Event Calendar 2.0//EN
METHOD:PUBLISH
X-PUBLISHED-TTL:P3D
REFRESH-INTERVAL:P3D
CALSCALE:GREGORIAN
BEGIN:VEVENT
DTSTART:20131113T160000Z
DTEND:20131113T170000Z
X-MICROSOFT-CDO-ALLDAYEVENT:FALSE
SUMMARY:RC: Icing on the Cake
DESCRIPTION:Ribbon Cutting: Icing on the Cake\n\n(2155 Hwy 18\, Ste C\, Brandon) across from Home Depot
X-ALT-DESC;FMTTYPE=text/html:<strong>Ribbon Cutting:&nbsp\;</strong>Icing on the Cake<br />\n(2155 Hwy 18\, Ste C\, Brandon)&nbsp\;<em>across from Home Depot</em>
LOCATION:
UID:e.1412.521
SEQUENCE:3
DTSTAMP:20260422T215526Z
URL:https://business.rankinchamber.com/events/details/rc-icing-on-the-cake-11-13-2013-521
END:VEVENT

END:VCALENDAR
