BEGIN:VCALENDAR
VERSION:2.0
PRODID:-//ChamberMaster//Event Calendar 2.0//EN
METHOD:PUBLISH
X-PUBLISHED-TTL:P3D
REFRESH-INTERVAL:P3D
CALSCALE:GREGORIAN
BEGIN:VEVENT
DTSTART:20140828T150000Z
DTEND:20140828T153000Z
X-MICROSOFT-CDO-ALLDAYEVENT:FALSE
SUMMARY:RC: Interior Twist
DESCRIPTION:RC: Interior Twist (10 Overby St\, Brandon)
X-ALT-DESC;FMTTYPE=text/html:RC: Interior Twist (10 Overby St\, Brandon)
LOCATION:
UID:e.1412.692
SEQUENCE:3
DTSTAMP:20260422T073751Z
URL:https://business.rankinchamber.com/events/details/rc-interior-twist-08-28-2014-692
END:VEVENT

END:VCALENDAR
