BEGIN:VCALENDAR
VERSION:2.0
PRODID:-//ChamberMaster//Event Calendar 2.0//EN
METHOD:PUBLISH
X-PUBLISHED-TTL:P3D
REFRESH-INTERVAL:P3D
CALSCALE:GREGORIAN
BEGIN:VEVENT
DTSTART:20120621T183000Z
DTEND:20120621T190000Z
X-MICROSOFT-CDO-ALLDAYEVENT:FALSE
SUMMARY:RC: JaniKing of Jackson
DESCRIPTION:Ribbon Cutting: JaniKing of Jackson\n\n\n	\n		\n			\n				\n					Jani-King of Jackson\n				254 Katherine Drive\n\n				Flowood\, MS 39232\n\n				(601) 968-9400
X-ALT-DESC;FMTTYPE=text/html:Ribbon Cutting: JaniKing of Jackson<br />\n<table border="0" cellpadding="0" cellspacing="0" class="txtNormal" width="100%">\n	<tbody>\n		<tr>\n			<td>\n				<div class="txtHeading">\n					Jani-King of Jackson</div>\n				254 Katherine Drive<br />\n				Flowood\, MS 39232<br />\n				(601) 968-9400</td>\n		</tr>\n	</tbody>\n</table>\n
LOCATION:
UID:e.1412.136
SEQUENCE:3
DTSTAMP:20260422T012728Z
URL:https://business.rankinchamber.com/events/details/rc-janiking-of-jackson-06-21-2012-136
END:VEVENT

END:VCALENDAR
