BEGIN:VCALENDAR
VERSION:2.0
PRODID:-//ChamberMaster//Event Calendar 2.0//EN
METHOD:PUBLISH
X-PUBLISHED-TTL:P3D
REFRESH-INTERVAL:P3D
CALSCALE:GREGORIAN
BEGIN:VEVENT
DTSTART:20140610T153000Z
DTEND:20140610T160000Z
X-MICROSOFT-CDO-ALLDAYEVENT:FALSE
SUMMARY:RC: Junior Auxiliary of Rankin County
DESCRIPTION:Tues\, Jun 10\, 10:30 am\n\nRC: Junior Auxiliary of Rankin County (Flowood Chamber\, 115 Laurel Park Cove\, Flowood)
X-ALT-DESC;FMTTYPE=text/html:<span style="font-family:verdana\,sans-serif\;"><span style="font-size:10.0pt\;">Tues\, Jun 10\, 10:30 am<br />\nRC: Junior Auxiliary of Rankin County (Flowood Chamber\, 115 Laurel Park Cove\, Flowood)</span></span>
LOCATION:
UID:e.1412.654
SEQUENCE:3
DTSTAMP:20260422T105458Z
URL:https://business.rankinchamber.com/events/details/rc-junior-auxiliary-of-rankin-county-06-10-2014-654
END:VEVENT

END:VCALENDAR
