BEGIN:VCALENDAR
VERSION:2.0
PRODID:-//ChamberMaster//Event Calendar 2.0//EN
METHOD:PUBLISH
X-PUBLISHED-TTL:P3D
REFRESH-INTERVAL:P3D
CALSCALE:GREGORIAN
BEGIN:VEVENT
DTSTART:20120814T163000Z
DTEND:20120814T173000Z
X-MICROSOFT-CDO-ALLDAYEVENT:FALSE
SUMMARY:RC: K & M Auto Repair
DESCRIPTION:Ribbon Cutting/Grand Opening.\n\nWill be providing lunch
X-ALT-DESC;FMTTYPE=text/html:Ribbon Cutting/Grand Opening.<br />\nWill be providing lunch
LOCATION:K & M Auto Repair (1009 Hwy 471 North\, Brandon)
UID:e.1412.168
SEQUENCE:3
DTSTAMP:20260422T042532Z
URL:https://business.rankinchamber.com/events/details/rc-k-m-auto-repair-08-14-2012-168
END:VEVENT

END:VCALENDAR
