BEGIN:VCALENDAR
VERSION:2.0
PRODID:-//ChamberMaster//Event Calendar 2.0//EN
METHOD:PUBLISH
X-PUBLISHED-TTL:P3D
REFRESH-INTERVAL:P3D
CALSCALE:GREGORIAN
BEGIN:VEVENT
DTSTART:20151022T153000Z
DTEND:20151022T160000Z
X-MICROSOFT-CDO-ALLDAYEVENT:FALSE
SUMMARY:RC: Keep the Rez Beautiful
DESCRIPTION:RC: Keep the Rez Beautiful (Turtle Point Nature Area)
X-ALT-DESC;FMTTYPE=text/html:RC: Keep the Rez Beautiful (Turtle Point Nature Area)
LOCATION:
UID:e.1412.2003
SEQUENCE:3
DTSTAMP:20260421T091850Z
URL:https://business.rankinchamber.com/events/details/rc-keep-the-rez-beautiful-10-22-2015-2003
END:VEVENT

END:VCALENDAR
