BEGIN:VCALENDAR
VERSION:2.0
PRODID:-//ChamberMaster//Event Calendar 2.0//EN
METHOD:PUBLISH
X-PUBLISHED-TTL:P3D
REFRESH-INTERVAL:P3D
CALSCALE:GREGORIAN
BEGIN:VEVENT
DTSTART:20131015T153000Z
DTEND:20131015T163000Z
X-MICROSOFT-CDO-ALLDAYEVENT:FALSE
SUMMARY:RC: KeyTrust Properties-Paula Rick
DESCRIPTION:Ribbon Cutting: KeyTrust Properties-Paula Ricks\n\n(26 Eastgate Drive\, Ste E\, Brandon)
X-ALT-DESC;FMTTYPE=text/html:Ribbon Cutting: KeyTrust Properties-Paula Ricks<br />\n(26 Eastgate Drive\, Ste E\, Brandon)
LOCATION:
UID:e.1412.495
SEQUENCE:3
DTSTAMP:20260422T233558Z
URL:https://business.rankinchamber.com/events/details/rc-keytrust-properties-paula-rick-10-15-2013-495
END:VEVENT

END:VCALENDAR
