BEGIN:VCALENDAR
VERSION:2.0
PRODID:-//ChamberMaster//Event Calendar 2.0//EN
METHOD:PUBLISH
X-PUBLISHED-TTL:P3D
REFRESH-INTERVAL:P3D
CALSCALE:GREGORIAN
BEGIN:VEVENT
DTSTART:20121018T163000Z
DTEND:20121018T170000Z
X-MICROSOFT-CDO-ALLDAYEVENT:FALSE
SUMMARY:RC: Magnolia School of Speech
DESCRIPTION:Ribbon Cutting: Magnolia School of Speech
X-ALT-DESC;FMTTYPE=text/html:Ribbon Cutting: Magnolia School of Speech
LOCATION:733 Flag Chapel Road\, Jackson
UID:e.1412.258
SEQUENCE:3
DTSTAMP:20260422T074115Z
URL:https://business.rankinchamber.com/events/details/rc-magnolia-school-of-speech-10-18-2012-258
END:VEVENT

END:VCALENDAR
