BEGIN:VCALENDAR
VERSION:2.0
PRODID:-//ChamberMaster//Event Calendar 2.0//EN
METHOD:PUBLISH
X-PUBLISHED-TTL:P3D
REFRESH-INTERVAL:P3D
CALSCALE:GREGORIAN
BEGIN:VEVENT
DTSTART:20150414T150000Z
DTEND:20150414T153000Z
X-MICROSOFT-CDO-ALLDAYEVENT:FALSE
SUMMARY:RC: McCall Stern\, PLLC
DESCRIPTION:RC: McCall Stern\, PLLC (Rankin Chamber\, 101 Service Drive\, Brandon)
X-ALT-DESC;FMTTYPE=text/html:RC: McCall Stern\, PLLC (Rankin Chamber\, 101 Service Drive\, Brandon)
LOCATION:
UID:e.1412.1909
SEQUENCE:3
DTSTAMP:20260421T185334Z
URL:https://business.rankinchamber.com/events/details/rc-mccall-stern-pllc-04-14-2015-1909
END:VEVENT

END:VCALENDAR
