BEGIN:VCALENDAR
VERSION:2.0
PRODID:-//ChamberMaster//Event Calendar 2.0//EN
METHOD:PUBLISH
X-PUBLISHED-TTL:P3D
REFRESH-INTERVAL:P3D
CALSCALE:GREGORIAN
BEGIN:VEVENT
DTSTART:20150903T153000Z
DTEND:20150903T160000Z
X-MICROSOFT-CDO-ALLDAYEVENT:FALSE
SUMMARY:RC: MS Army National Guard
DESCRIPTION:RC: MS Army National Guard (4221 Lakeland Dr\, Flowood)
X-ALT-DESC;FMTTYPE=text/html:RC: MS Army National Guard (4221 Lakeland Dr\, Flowood)
LOCATION:
UID:e.1412.1975
SEQUENCE:3
DTSTAMP:20260421T102150Z
URL:https://business.rankinchamber.com/events/details/rc-ms-army-national-guard-09-03-2015-1975
END:VEVENT

END:VCALENDAR
