BEGIN:VCALENDAR
VERSION:2.0
PRODID:-//ChamberMaster//Event Calendar 2.0//EN
METHOD:PUBLISH
X-PUBLISHED-TTL:P3D
REFRESH-INTERVAL:P3D
CALSCALE:GREGORIAN
BEGIN:VEVENT
DTSTART:20130912T153000Z
DTEND:20130912T160000Z
X-MICROSOFT-CDO-ALLDAYEVENT:FALSE
SUMMARY:RC: MS Chapter American Parkinson Foundation
DESCRIPTION:RC: MS Chapter American Parkinson Foundation (Chamber)
X-ALT-DESC;FMTTYPE=text/html:RC: MS Chapter American Parkinson Foundation (Chamber)
LOCATION:
UID:e.1412.470
SEQUENCE:3
DTSTAMP:20260423T013839Z
URL:https://business.rankinchamber.com/events/details/rc-ms-chapter-american-parkinson-foundation-09-12-2013-470
END:VEVENT

END:VCALENDAR
