BEGIN:VCALENDAR
VERSION:2.0
PRODID:-//ChamberMaster//Event Calendar 2.0//EN
METHOD:PUBLISH
X-PUBLISHED-TTL:P3D
REFRESH-INTERVAL:P3D
CALSCALE:GREGORIAN
BEGIN:VEVENT
DTSTART:20131205T220000Z
DTEND:20131206T000000Z
X-MICROSOFT-CDO-ALLDAYEVENT:FALSE
SUMMARY:RC/OH: Brandon Rehab Therapy
DESCRIPTION:RC/OH: Brandon Rehab Therapy (355 Crossgates Blvd\, Brandon)
X-ALT-DESC;FMTTYPE=text/html:RC/OH: Brandon Rehab Therapy (355 Crossgates Blvd\, Brandon)
LOCATION:
UID:e.1412.537
SEQUENCE:3
DTSTAMP:20260422T203004Z
URL:https://business.rankinchamber.com/events/details/rc-oh-brandon-rehab-therapy-12-05-2013-537
END:VEVENT

END:VCALENDAR
