BEGIN:VCALENDAR
VERSION:2.0
PRODID:-//ChamberMaster//Event Calendar 2.0//EN
METHOD:PUBLISH
X-PUBLISHED-TTL:P3D
REFRESH-INTERVAL:P3D
CALSCALE:GREGORIAN
BEGIN:VEVENT
DTSTART:20131211T173000Z
DTEND:20131211T180000Z
X-MICROSOFT-CDO-ALLDAYEVENT:FALSE
SUMMARY:RC/OH: CarePlus
DESCRIPTION:RC/OH: CarePlus (25 Eastgate Drive\, Ste B\, Brandon) Behind Priority One Bank
X-ALT-DESC;FMTTYPE=text/html:RC/OH: CarePlus (25 Eastgate Drive\, Ste B\, Brandon) Behind Priority One Bank&nbsp\;
LOCATION:
UID:e.1412.546
SEQUENCE:3
DTSTAMP:20260422T202746Z
URL:https://business.rankinchamber.com/events/details/rc-oh-careplus-12-11-2013-546
END:VEVENT

END:VCALENDAR
