BEGIN:VCALENDAR
VERSION:2.0
PRODID:-//ChamberMaster//Event Calendar 2.0//EN
METHOD:PUBLISH
X-PUBLISHED-TTL:P3D
REFRESH-INTERVAL:P3D
CALSCALE:GREGORIAN
BEGIN:VEVENT
DTSTART:20131212T220000Z
DTEND:20131212T230000Z
X-MICROSOFT-CDO-ALLDAYEVENT:FALSE
SUMMARY:RC/OH: Hometown Brandon Magazine
DESCRIPTION:RC/OH: Hometown Brandon (Chamber)\n\nWill cut ribbon at 4:30 pm
X-ALT-DESC;FMTTYPE=text/html:RC/OH: Hometown Brandon (Chamber)<br />\nWill cut ribbon at 4:30 pm
LOCATION:
UID:e.1412.547
SEQUENCE:3
DTSTAMP:20260422T203010Z
URL:https://business.rankinchamber.com/events/details/rc-oh-hometown-brandon-magazine-12-12-2013-547
END:VEVENT

END:VCALENDAR
