BEGIN:VCALENDAR
VERSION:2.0
PRODID:-//ChamberMaster//Event Calendar 2.0//EN
METHOD:PUBLISH
X-PUBLISHED-TTL:P3D
REFRESH-INTERVAL:P3D
CALSCALE:GREGORIAN
BEGIN:VEVENT
DTSTART:20150504T153000Z
DTEND:20150504T220000Z
X-MICROSOFT-CDO-ALLDAYEVENT:FALSE
SUMMARY:RC/OH: OsteoStrong
DESCRIPTION:Ribbon Cutting at 10:30 am\n\nOpen House all day
X-ALT-DESC;FMTTYPE=text/html:Ribbon Cutting at 10:30 am<br />\nOpen House all day<br />\n&nbsp\;
LOCATION:1149 Old Fannin Road\, Suite 22\, Brandon
UID:e.1412.1919
SEQUENCE:3
DTSTAMP:20260421T172559Z
URL:https://business.rankinchamber.com/events/details/rc-oh-osteostrong-05-04-2015-1919
END:VEVENT

END:VCALENDAR
