BEGIN:VCALENDAR
VERSION:2.0
PRODID:-//ChamberMaster//Event Calendar 2.0//EN
METHOD:PUBLISH
X-PUBLISHED-TTL:P3D
REFRESH-INTERVAL:P3D
CALSCALE:GREGORIAN
BEGIN:VEVENT
DTSTART:20140617T190000Z
DTEND:20140617T200000Z
X-MICROSOFT-CDO-ALLDAYEVENT:FALSE
SUMMARY:RC/OH: The Blake at Flowood
DESCRIPTION:RC/OH: The Blake at Flowood (350 Town Center Way\, Flowood)
X-ALT-DESC;FMTTYPE=text/html:RC/OH: The Blake at Flowood (350 Town Center Way\, Flowood)
LOCATION:
UID:e.1412.658
SEQUENCE:3
DTSTAMP:20260422T105228Z
URL:https://business.rankinchamber.com/events/details/rc-oh-the-blake-at-flowood-06-17-2014-658
END:VEVENT

END:VCALENDAR
