BEGIN:VCALENDAR
VERSION:2.0
PRODID:-//ChamberMaster//Event Calendar 2.0//EN
METHOD:PUBLISH
X-PUBLISHED-TTL:P3D
REFRESH-INTERVAL:P3D
CALSCALE:GREGORIAN
BEGIN:VEVENT
DTSTART:20130510T163000Z
DTEND:20130510T170000Z
X-MICROSOFT-CDO-ALLDAYEVENT:FALSE
SUMMARY:RC: OhhMy! Gifts & Things\, Florence
DESCRIPTION:RC: OhhMy! Gifts & Things\, 103 East main Street\, Florence\, MS 39073
X-ALT-DESC;FMTTYPE=text/html:RC: OhhMy! Gifts &amp\; Things\, 103 East main Street\, Florence\, MS 39073
LOCATION:
UID:e.1412.378
SEQUENCE:3
DTSTAMP:20260423T075332Z
URL:https://business.rankinchamber.com/events/details/rc-ohhmy-gifts-things-florence-05-10-2013-378
END:VEVENT

END:VCALENDAR
