BEGIN:VCALENDAR
VERSION:2.0
PRODID:-//ChamberMaster//Event Calendar 2.0//EN
METHOD:PUBLISH
X-PUBLISHED-TTL:P3D
REFRESH-INTERVAL:P3D
CALSCALE:GREGORIAN
BEGIN:VEVENT
DTSTART:20131017T153000Z
DTEND:20131017T163000Z
X-MICROSOFT-CDO-ALLDAYEVENT:FALSE
SUMMARY:RC: Palmer Law Firm
DESCRIPTION:Ribbon Cutting: Palmer Law Firm (276 Maxey Drive\, Brandon)
X-ALT-DESC;FMTTYPE=text/html:Ribbon Cutting: Palmer Law Firm (276 Maxey Drive\, Brandon)
LOCATION:
UID:e.1412.498
SEQUENCE:3
DTSTAMP:20260422T233650Z
URL:https://business.rankinchamber.com/events/details/rc-palmer-law-firm-10-17-2013-498
END:VEVENT

END:VCALENDAR
