BEGIN:VCALENDAR
VERSION:2.0
PRODID:-//ChamberMaster//Event Calendar 2.0//EN
METHOD:PUBLISH
X-PUBLISHED-TTL:P3D
REFRESH-INTERVAL:P3D
CALSCALE:GREGORIAN
BEGIN:VEVENT
DTSTART:20140603T190000Z
DTEND:20140603T200000Z
X-MICROSOFT-CDO-ALLDAYEVENT:FALSE
SUMMARY:RC: Peach Tree Village Memory Care Center
DESCRIPTION:RC\; Peach Tree Village Memory Care (6100 Old Brandon Rd\, Brandon)
X-ALT-DESC;FMTTYPE=text/html:RC\; Peach Tree Village Memory Care (6100 Old Brandon Rd\, Brandon)
LOCATION:
UID:e.1412.649
SEQUENCE:3
DTSTAMP:20260422T105322Z
URL:https://business.rankinchamber.com/events/details/rc-peach-tree-village-memory-care-center-06-03-2014-649
END:VEVENT

END:VCALENDAR
