BEGIN:VCALENDAR
VERSION:2.0
PRODID:-//ChamberMaster//Event Calendar 2.0//EN
METHOD:PUBLISH
X-PUBLISHED-TTL:P3D
REFRESH-INTERVAL:P3D
CALSCALE:GREGORIAN
BEGIN:VEVENT
DTSTART:20130506T190000Z
DTEND:20130506T193000Z
X-MICROSOFT-CDO-ALLDAYEVENT:FALSE
SUMMARY:RC: Peak Solutions TSP ( 224 Avalon Circle\, Ste D\, Brandon 39047 )
DESCRIPTION:RC: Peak Solutions TSP ( 224 Avalon Circle\, Ste D\, Brandon 39047 )
X-ALT-DESC;FMTTYPE=text/html:RC: Peak Solutions TSP ( 224 Avalon Circle\, Ste D\, Brandon 39047 )
LOCATION:
UID:e.1412.363
SEQUENCE:3
DTSTAMP:20260423T075208Z
URL:https://business.rankinchamber.com/events/details/rc-peak-solutions-tsp-224-avalon-circle-ste-d-brandon-39047-05-06-2013-363
END:VEVENT

END:VCALENDAR
