BEGIN:VCALENDAR
VERSION:2.0
PRODID:-//ChamberMaster//Event Calendar 2.0//EN
METHOD:PUBLISH
X-PUBLISHED-TTL:P3D
REFRESH-INTERVAL:P3D
CALSCALE:GREGORIAN
BEGIN:VEVENT
DTSTART:20150320T160000Z
DTEND:20150320T163000Z
X-MICROSOFT-CDO-ALLDAYEVENT:FALSE
SUMMARY:RC: Preferred Care Physical Therapy
DESCRIPTION:RC: Preferred Care Physical Therapy (1645 W. Government St\, Ste D\, Brandon)
X-ALT-DESC;FMTTYPE=text/html:RC: Preferred Care Physical Therapy (1645 W. Government St\, Ste D\, Brandon)
LOCATION:
UID:e.1412.1893
SEQUENCE:3
DTSTAMP:20260421T201929Z
URL:https://business.rankinchamber.com/events/details/rc-preferred-care-physical-therapy-03-20-2015-1893
END:VEVENT

END:VCALENDAR
