BEGIN:VCALENDAR
VERSION:2.0
PRODID:-//ChamberMaster//Event Calendar 2.0//EN
METHOD:PUBLISH
X-PUBLISHED-TTL:P3D
REFRESH-INTERVAL:P3D
CALSCALE:GREGORIAN
BEGIN:VEVENT
DTSTART:20120625T200000Z
DTEND:20120625T203000Z
X-MICROSOFT-CDO-ALLDAYEVENT:FALSE
SUMMARY:RC: Premier Designs
DESCRIPTION:RC: Premier Designs\n\n537 Walnut Grove Dr\, Pearl MS 39208
X-ALT-DESC;FMTTYPE=text/html:RC: Premier Designs<br />\n537 Walnut Grove Dr\, Pearl MS 39208
LOCATION:
UID:e.1412.137
SEQUENCE:3
DTSTAMP:20260422T012242Z
URL:https://business.rankinchamber.com/events/details/rc-premier-designs-06-25-2012-137
END:VEVENT

END:VCALENDAR
