BEGIN:VCALENDAR
VERSION:2.0
PRODID:-//ChamberMaster//Event Calendar 2.0//EN
METHOD:PUBLISH
X-PUBLISHED-TTL:P3D
REFRESH-INTERVAL:P3D
CALSCALE:GREGORIAN
BEGIN:VEVENT
DTSTART:20141119T220000Z
DTEND:20141119T230000Z
X-MICROSOFT-CDO-ALLDAYEVENT:FALSE
SUMMARY:RC: Premier Endoscopy Center
DESCRIPTION:RC: Premier Endoscopy Center (1200 N. State St\, Ste 270\, Jackson)
X-ALT-DESC;FMTTYPE=text/html:RC: Premier Endoscopy Center (1200 N. State St\, Ste 270\, Jackson)
LOCATION:
UID:e.1412.757
SEQUENCE:3
DTSTAMP:20260422T024942Z
URL:https://business.rankinchamber.com/events/details/rc-premier-endoscopy-center-11-19-2014-757
END:VEVENT

END:VCALENDAR
