BEGIN:VCALENDAR
VERSION:2.0
PRODID:-//ChamberMaster//Event Calendar 2.0//EN
METHOD:PUBLISH
X-PUBLISHED-TTL:P3D
REFRESH-INTERVAL:P3D
CALSCALE:GREGORIAN
BEGIN:VEVENT
DTSTART:20150205T220000Z
DTEND:20150205T230000Z
X-MICROSOFT-CDO-ALLDAYEVENT:FALSE
SUMMARY:RC: Professional EyeCare Associates
DESCRIPTION:RC: Professional EyeCare Associates (1390 W Government St\, Brandon)\n\nOpen House from 4pm - 6pm
X-ALT-DESC;FMTTYPE=text/html:RC: Professional EyeCare Associates (1390 W Government St\, Brandon)<br />\nOpen House from 4pm - 6pm
LOCATION:
UID:e.1412.1873
SEQUENCE:3
DTSTAMP:20260421T221416Z
URL:https://business.rankinchamber.com/events/details/rc-professional-eyecare-associates-02-05-2015-1873
END:VEVENT

END:VCALENDAR
