BEGIN:VCALENDAR
VERSION:2.0
PRODID:-//ChamberMaster//Event Calendar 2.0//EN
METHOD:PUBLISH
X-PUBLISHED-TTL:P3D
REFRESH-INTERVAL:P3D
CALSCALE:GREGORIAN
BEGIN:VEVENT
DTSTART:20120808T160000Z
DTEND:20120808T170000Z
X-MICROSOFT-CDO-ALLDAYEVENT:FALSE
SUMMARY:RC: REchelle Pet Grooming
DESCRIPTION:Ribbon Cutting:\n\nREchelle Pet Grooming\n\n518 Second St\, Pelahatchie
X-ALT-DESC;FMTTYPE=text/html:Ribbon Cutting:<br />\nREchelle Pet Grooming<br />\n518 Second St\, Pelahatchie
LOCATION:Hwy 80 Next to Spaceway Gas Station
UID:e.1412.161
SEQUENCE:3
DTSTAMP:20260422T043518Z
URL:https://business.rankinchamber.com/events/details/rc-rechelle-pet-grooming-08-08-2012-161
END:VEVENT

END:VCALENDAR
