BEGIN:VCALENDAR
VERSION:2.0
PRODID:-//ChamberMaster//Event Calendar 2.0//EN
METHOD:PUBLISH
X-PUBLISHED-TTL:P3D
REFRESH-INTERVAL:P3D
CALSCALE:GREGORIAN
BEGIN:VEVENT
DTSTART:20130514T150000Z
DTEND:20130514T153000Z
X-MICROSOFT-CDO-ALLDAYEVENT:FALSE
SUMMARY:RC: Reservoir Crossfit\, Brandon
DESCRIPTION:RC: Reservoir Crossfit\, 131 Builder's Square\, Brandon\, MS 39047
X-ALT-DESC;FMTTYPE=text/html:RC: Reservoir Crossfit\, 131 Builder&#39\;s Square\, Brandon\, MS 39047
LOCATION:
UID:e.1412.377
SEQUENCE:3
DTSTAMP:20260423T075310Z
URL:https://business.rankinchamber.com/events/details/rc-reservoir-crossfit-brandon-05-14-2013-377
END:VEVENT

END:VCALENDAR
