BEGIN:VCALENDAR
VERSION:2.0
PRODID:-//ChamberMaster//Event Calendar 2.0//EN
METHOD:PUBLISH
X-PUBLISHED-TTL:P3D
REFRESH-INTERVAL:P3D
CALSCALE:GREGORIAN
BEGIN:VEVENT
DTSTART:20130712T133000Z
DTEND:20130712T140000Z
X-MICROSOFT-CDO-ALLDAYEVENT:FALSE
SUMMARY:RC: Salvation Army\, Pearl
DESCRIPTION:RC: Salvation Army\, 3510 Hwy 80 East\, Pearl\, MS 39208\n	\n		 \n	Click here to edit...
X-ALT-DESC;FMTTYPE=text/html:<div style="color: gray\;">\n	<p align="LEFT">\n		RC: Salvation Army\, 3510 Hwy 80 East\, Pearl\, MS 39208</p>\n	<p>\n		&nbsp\;</p>\n	Click here to edit...</div>\n
LOCATION:
UID:e.1412.432
SEQUENCE:3
DTSTAMP:20260423T044555Z
URL:https://business.rankinchamber.com/events/details/rc-salvation-army-pearl-07-12-2013-432
END:VEVENT

END:VCALENDAR
