BEGIN:VCALENDAR
VERSION:2.0
PRODID:-//ChamberMaster//Event Calendar 2.0//EN
METHOD:PUBLISH
X-PUBLISHED-TTL:P3D
REFRESH-INTERVAL:P3D
CALSCALE:GREGORIAN
BEGIN:VEVENT
DTSTART:20140507T133000Z
DTEND:20140507T170000Z
X-MICROSOFT-CDO-ALLDAYEVENT:FALSE
SUMMARY:RC Senior Picnic
DESCRIPTION:Rankin County Senior Picnic (Muse Center\, 515 Country Place Pkwy\, Pearl)
X-ALT-DESC;FMTTYPE=text/html:Rankin County Senior Picnic (Muse Center\, 515 Country Place Pkwy\, Pearl)
LOCATION:
UID:e.1412.638
SEQUENCE:3
DTSTAMP:20260422T123056Z
URL:https://business.rankinchamber.com/events/details/rc-senior-picnic-05-07-2014-638
END:VEVENT

END:VCALENDAR
