BEGIN:VCALENDAR
VERSION:2.0
PRODID:-//ChamberMaster//Event Calendar 2.0//EN
METHOD:PUBLISH
X-PUBLISHED-TTL:P3D
REFRESH-INTERVAL:P3D
CALSCALE:GREGORIAN
BEGIN:VEVENT
DTSTART:20131030T150000Z
DTEND:20131030T160000Z
X-MICROSOFT-CDO-ALLDAYEVENT:FALSE
SUMMARY:RC: Smooth Transitions of Central MS
DESCRIPTION:RC: Smooth Transitions of Central MS (Chamber)
X-ALT-DESC;FMTTYPE=text/html:RC: Smooth Transitions of Central MS (Chamber)
LOCATION:
UID:e.1412.508
SEQUENCE:3
DTSTAMP:20260422T233511Z
URL:https://business.rankinchamber.com/events/details/rc-smooth-transitions-of-central-ms-10-30-2013-508
END:VEVENT

END:VCALENDAR
