BEGIN:VCALENDAR
VERSION:2.0
PRODID:-//ChamberMaster//Event Calendar 2.0//EN
METHOD:PUBLISH
X-PUBLISHED-TTL:P3D
REFRESH-INTERVAL:P3D
CALSCALE:GREGORIAN
BEGIN:VEVENT
DTSTART:20140124T163000Z
DTEND:20140124T170000Z
X-MICROSOFT-CDO-ALLDAYEVENT:FALSE
SUMMARY:RC: Soccer Shots
DESCRIPTION:RC: Soccer Shots of Jackson (201 N. College Street\, Brandon)
X-ALT-DESC;FMTTYPE=text/html:RC: Soccer Shots of Jackson (201 N. College Street\, Brandon)
LOCATION:
UID:e.1412.572
SEQUENCE:3
DTSTAMP:20260422T184056Z
URL:https://business.rankinchamber.com/events/details/rc-soccer-shots-01-24-2014-572
END:VEVENT

END:VCALENDAR
