BEGIN:VCALENDAR
VERSION:2.0
PRODID:-//ChamberMaster//Event Calendar 2.0//EN
METHOD:PUBLISH
X-PUBLISHED-TTL:P3D
REFRESH-INTERVAL:P3D
CALSCALE:GREGORIAN
BEGIN:VEVENT
DTSTART:20150922T150000Z
DTEND:20150922T153000Z
X-MICROSOFT-CDO-ALLDAYEVENT:FALSE
SUMMARY:RC: Son Seekers
DESCRIPTION:RC: Son Seekers Afterschool & Summer Camp (5002 Hwy 80\, Pearl)
X-ALT-DESC;FMTTYPE=text/html:RC: Son Seekers Afterschool &amp\; Summer Camp (5002 Hwy 80\, Pearl)
LOCATION:
UID:e.1412.1987
SEQUENCE:3
DTSTAMP:20260421T141518Z
URL:https://business.rankinchamber.com/events/details/rc-son-seekers-09-22-2015-1987
END:VEVENT

END:VCALENDAR
