BEGIN:VCALENDAR
VERSION:2.0
PRODID:-//ChamberMaster//Event Calendar 2.0//EN
METHOD:PUBLISH
X-PUBLISHED-TTL:P3D
REFRESH-INTERVAL:P3D
CALSCALE:GREGORIAN
BEGIN:VEVENT
DTSTART:20150203T190000Z
DTEND:20150203T200000Z
X-MICROSOFT-CDO-ALLDAYEVENT:FALSE
SUMMARY:RC: Southern Electric
DESCRIPTION:RC: Southern Electric\n\n4374-A Mangum Drive\, Flowood
X-ALT-DESC;FMTTYPE=text/html:RC: Southern Electric<br />\n4374-A Mangum Drive\, Flowood
LOCATION:
UID:e.1412.1870
SEQUENCE:3
DTSTAMP:20260421T220531Z
URL:https://business.rankinchamber.com/events/details/rc-southern-electric-02-03-2015-1870
END:VEVENT

END:VCALENDAR
