BEGIN:VCALENDAR
VERSION:2.0
PRODID:-//ChamberMaster//Event Calendar 2.0//EN
METHOD:PUBLISH
X-PUBLISHED-TTL:P3D
REFRESH-INTERVAL:P3D
CALSCALE:GREGORIAN
BEGIN:VEVENT
DTSTART:20131210T160000Z
DTEND:20131210T163000Z
X-MICROSOFT-CDO-ALLDAYEVENT:FALSE
SUMMARY:RC: Southern Style with Gifts by Burlap Boutique
DESCRIPTION:RC: Southern Style with Gifts by Burlap Boutique (404 Section Street\, Brandon)
X-ALT-DESC;FMTTYPE=text/html:RC: Southern Style with Gifts by Burlap Boutique (404 Section Street\, Brandon)
LOCATION:
UID:e.1412.540
SEQUENCE:3
DTSTAMP:20260422T203137Z
URL:https://business.rankinchamber.com/events/details/rc-southern-style-with-gifts-by-burlap-boutique-12-10-2013-540
END:VEVENT

END:VCALENDAR
