BEGIN:VCALENDAR
VERSION:2.0
PRODID:-//ChamberMaster//Event Calendar 2.0//EN
METHOD:PUBLISH
X-PUBLISHED-TTL:P3D
REFRESH-INTERVAL:P3D
CALSCALE:GREGORIAN
BEGIN:VEVENT
DTSTART:20140717T163000Z
DTEND:20140717T173000Z
X-MICROSOFT-CDO-ALLDAYEVENT:FALSE
SUMMARY:RC: Sunbelt Rentals
DESCRIPTION:Ribbon Cutting at 11:30 am for:\n\nSunbelt Rentals\n\n2700 Lakeland Drive\, Flowood\n\n\n\n Open House and Lunch from 11am-2pm. We will cut the ribbon at 11:30 am.
X-ALT-DESC;FMTTYPE=text/html:Ribbon Cutting at 11:30 am for:<br />\nSunbelt Rentals<br />\n2700 Lakeland Drive\, Flowood<br />\n<br />\n&#8203\;Open House and Lunch from 11am-2pm. We will cut the ribbon at 11:30 am.<br />\n&nbsp\;
LOCATION:
UID:e.1412.669
SEQUENCE:3
DTSTAMP:20260422T092003Z
URL:https://business.rankinchamber.com/events/details/rc-sunbelt-rentals-07-17-2014-669
END:VEVENT

END:VCALENDAR
