BEGIN:VCALENDAR
VERSION:2.0
PRODID:-//ChamberMaster//Event Calendar 2.0//EN
METHOD:PUBLISH
X-PUBLISHED-TTL:P3D
REFRESH-INTERVAL:P3D
CALSCALE:GREGORIAN
BEGIN:VEVENT
DTSTART:20141105T170000Z
DTEND:20141105T173000Z
X-MICROSOFT-CDO-ALLDAYEVENT:FALSE
SUMMARY:RC: Swain Truck & Accessories
DESCRIPTION:RC: Swain Truck & Accessories (2875 Hwy 49 S\, Florence)
X-ALT-DESC;FMTTYPE=text/html:RC: Swain Truck &amp\; Accessories (2875 Hwy 49 S\, Florence)
LOCATION:
UID:e.1412.742
SEQUENCE:3
DTSTAMP:20260422T025648Z
URL:https://business.rankinchamber.com/events/details/rc-swain-truck-accessories-11-05-2014-742
END:VEVENT

END:VCALENDAR
