BEGIN:VCALENDAR
VERSION:2.0
PRODID:-//ChamberMaster//Event Calendar 2.0//EN
METHOD:PUBLISH
X-PUBLISHED-TTL:P3D
REFRESH-INTERVAL:P3D
CALSCALE:GREGORIAN
BEGIN:VEVENT
DTSTART:20131112T163000Z
DTEND:20131112T170000Z
X-MICROSOFT-CDO-ALLDAYEVENT:FALSE
SUMMARY:RC: The Bounce Palace and Putters
DESCRIPTION:RC: The Bounce Palace and Putters (3825 Hwy 80\, Pearl)
X-ALT-DESC;FMTTYPE=text/html:RC: The Bounce Palace and Putters (3825 Hwy 80\, Pearl)
LOCATION:
UID:e.1412.517
SEQUENCE:3
DTSTAMP:20260422T221112Z
URL:https://business.rankinchamber.com/events/details/rc-the-bounce-palace-and-putters-11-12-2013-517
END:VEVENT

END:VCALENDAR
