BEGIN:VCALENDAR
VERSION:2.0
PRODID:-//ChamberMaster//Event Calendar 2.0//EN
METHOD:PUBLISH
X-PUBLISHED-TTL:P3D
REFRESH-INTERVAL:P3D
CALSCALE:GREGORIAN
BEGIN:VEVENT
DTSTART:20131028T180000Z
DTEND:20131028T190000Z
X-MICROSOFT-CDO-ALLDAYEVENT:FALSE
SUMMARY:RC: The Game Trailer
DESCRIPTION:Ribbon Cutting:\n\nThe Game Trailer (Chamber\, 101 Service Drive\, Brandon 39042)
X-ALT-DESC;FMTTYPE=text/html:Ribbon Cutting:<br />\nThe Game Trailer (Chamber\, 101 Service Drive\, Brandon 39042)
LOCATION:
UID:e.1412.506
SEQUENCE:3
DTSTAMP:20260422T233512Z
URL:https://business.rankinchamber.com/events/details/rc-the-game-trailer-10-28-2013-506
END:VEVENT

END:VCALENDAR
