BEGIN:VCALENDAR
VERSION:2.0
PRODID:-//ChamberMaster//Event Calendar 2.0//EN
METHOD:PUBLISH
X-PUBLISHED-TTL:P3D
REFRESH-INTERVAL:P3D
CALSCALE:GREGORIAN
BEGIN:VEVENT
DTSTART:20140304T200000Z
DTEND:20140304T203000Z
X-MICROSOFT-CDO-ALLDAYEVENT:FALSE
SUMMARY:RC: The Queen Agency-Allstate Insurance
DESCRIPTION:RC: The Queen Agency-Allstate Insurance (1006 Top St\, Ste L\, Flowood)
X-ALT-DESC;FMTTYPE=text/html:<span style="font-family:arial\,sans-serif\;">RC: The Queen Agency-Allstate Insurance (1006 Top St\, Ste L\, Flowood)</span>
LOCATION:
UID:e.1412.595
SEQUENCE:3
DTSTAMP:20260422T194344Z
URL:https://business.rankinchamber.com/events/details/rc-the-queen-agency-allstate-insurance-03-04-2014-595
END:VEVENT

END:VCALENDAR
