BEGIN:VCALENDAR
VERSION:2.0
PRODID:-//ChamberMaster//Event Calendar 2.0//EN
METHOD:PUBLISH
X-PUBLISHED-TTL:P3D
REFRESH-INTERVAL:P3D
CALSCALE:GREGORIAN
BEGIN:VEVENT
DTSTART:20140812T150000Z
DTEND:20140812T160000Z
X-MICROSOFT-CDO-ALLDAYEVENT:FALSE
SUMMARY:RC:TrustCare Express Medical Clnic
DESCRIPTION:RC:TrustCare Express Medical Clnic (1645 W. Government Dr\, Brandon)
X-ALT-DESC;FMTTYPE=text/html:RC:TrustCare Express Medical Clnic (1645 W. Government Dr\, Brandon)
LOCATION:
UID:e.1412.679
SEQUENCE:3
DTSTAMP:20260422T074125Z
URL:https://business.rankinchamber.com/events/details/rc-trustcare-express-medical-clnic-08-12-2014-679
END:VEVENT

END:VCALENDAR
