BEGIN:VCALENDAR
VERSION:2.0
PRODID:-//ChamberMaster//Event Calendar 2.0//EN
METHOD:PUBLISH
X-PUBLISHED-TTL:P3D
REFRESH-INTERVAL:P3D
CALSCALE:GREGORIAN
BEGIN:VEVENT
DTSTART:20141118T160000Z
DTEND:20141118T163000Z
X-MICROSOFT-CDO-ALLDAYEVENT:FALSE
SUMMARY:RC: Turn Key Properties
DESCRIPTION:RC: Turn Key Properties (200 E. Government St\, Ste 300\, Brandon)
X-ALT-DESC;FMTTYPE=text/html:RC: Turn Key Properties (200 E. Government St\, Ste 300\, Brandon)
LOCATION:
UID:e.1412.754
SEQUENCE:3
DTSTAMP:20260422T024908Z
URL:https://business.rankinchamber.com/events/details/rc-turn-key-properties-11-18-2014-754
END:VEVENT

END:VCALENDAR
