BEGIN:VCALENDAR
VERSION:2.0
PRODID:-//ChamberMaster//Event Calendar 2.0//EN
METHOD:PUBLISH
X-PUBLISHED-TTL:P3D
REFRESH-INTERVAL:P3D
CALSCALE:GREGORIAN
BEGIN:VEVENT
DTSTART:20130829T153000Z
DTEND:20130829T160000Z
X-MICROSOFT-CDO-ALLDAYEVENT:FALSE
SUMMARY:RC: UCR Properties
DESCRIPTION:Ribbon Cutting: UCR Properties\n\n660 Katherine Drive\, Suite 304\, Flowood
X-ALT-DESC;FMTTYPE=text/html:Ribbon Cutting: UCR&nbsp\;Properties<br />\n660 Katherine Drive\, Suite 304\, Flowood<br />\n
LOCATION:
UID:e.1412.455
SEQUENCE:3
DTSTAMP:20260423T032056Z
URL:https://business.rankinchamber.com/events/details/rc-ucr-properties-08-29-2013-455
END:VEVENT

END:VCALENDAR
