BEGIN:VCALENDAR
VERSION:2.0
PRODID:-//ChamberMaster//Event Calendar 2.0//EN
METHOD:PUBLISH
X-PUBLISHED-TTL:P3D
REFRESH-INTERVAL:P3D
CALSCALE:GREGORIAN
BEGIN:VEVENT
DTSTART:20140130T220000Z
DTEND:20140130T223000Z
X-MICROSOFT-CDO-ALLDAYEVENT:FALSE
SUMMARY:RC: VanMeter Oral Surgery
DESCRIPTION:RC: VanMeter Oral Surgery (300 Maxey Drive\, Brandon)
X-ALT-DESC;FMTTYPE=text/html:RC: VanMeter Oral Surgery (300 Maxey Drive\, Brandon)
LOCATION:
UID:e.1412.573
SEQUENCE:3
DTSTAMP:20260422T184040Z
URL:https://business.rankinchamber.com/events/details/rc-vanmeter-oral-surgery-01-30-2014-573
END:VEVENT

END:VCALENDAR
