BEGIN:VCALENDAR
VERSION:2.0
PRODID:-//ChamberMaster//Event Calendar 2.0//EN
METHOD:PUBLISH
X-PUBLISHED-TTL:P3D
REFRESH-INTERVAL:P3D
CALSCALE:GREGORIAN
BEGIN:VEVENT
DTSTART:20130110T160000Z
DTEND:20130110T163000Z
X-MICROSOFT-CDO-ALLDAYEVENT:FALSE
SUMMARY:RC: Vi Now-Angie Randall
DESCRIPTION:RC: Vi Now - Angie Randall (Rankin Chamber office\, 101 Service Drive\, Brandon)
X-ALT-DESC;FMTTYPE=text/html:RC: Vi Now - Angie Randall (Rankin Chamber office\, 101 Service Drive\, Brandon)
LOCATION:
UID:e.1412.278
SEQUENCE:3
DTSTAMP:20260423T152816Z
URL:https://business.rankinchamber.com/events/details/rc-vi-now-angie-randall-01-10-2013-278
END:VEVENT

END:VCALENDAR
