BEGIN:VCALENDAR
VERSION:2.0
PRODID:-//ChamberMaster//Event Calendar 2.0//EN
METHOD:PUBLISH
X-PUBLISHED-TTL:P3D
REFRESH-INTERVAL:P3D
CALSCALE:GREGORIAN
BEGIN:VEVENT
DTSTART:20130529T163000Z
DTEND:20130529T170000Z
X-MICROSOFT-CDO-ALLDAYEVENT:FALSE
SUMMARY:Re-GO: H & R Metals ( 1270 Hwy 49 South\, Richland )
DESCRIPTION:Re-GO- H & R Metals ( 1270 Hwy 49 South\, Richland )
X-ALT-DESC;FMTTYPE=text/html:Re-GO- H &amp\; R Metals ( 1270 Hwy 49 South\, Richland )
LOCATION:
UID:e.1412.373
SEQUENCE:3
DTSTAMP:20260423T075525Z
URL:https://business.rankinchamber.com/events/details/re-go-h-r-metals-1270-hwy-49-south-richland-05-29-2013-373
END:VEVENT

END:VCALENDAR
