BEGIN:VCALENDAR
VERSION:2.0
PRODID:-//ChamberMaster//Event Calendar 2.0//EN
METHOD:PUBLISH
X-PUBLISHED-TTL:P3D
REFRESH-INTERVAL:P3D
CALSCALE:GREGORIAN
BEGIN:VEVENT
DTSTART:20130319T140000Z
DTEND:20130319T150000Z
X-MICROSOFT-CDO-ALLDAYEVENT:FALSE
SUMMARY:Re-Grand Opening: McDonald's-Crossgates
DESCRIPTION:Re-Grand Opening: McDonald's-Crossgates (132 Stribling Ln\, Brandon)
X-ALT-DESC;FMTTYPE=text/html:Re-Grand Opening: McDonald&#39\;s-Crossgates (132 Stribling Ln\, Brandon)
LOCATION:
UID:e.1412.321
SEQUENCE:3
DTSTAMP:20260423T114325Z
URL:https://business.rankinchamber.com/events/details/re-grand-opening-mcdonald-s-crossgates-03-19-2013-321
END:VEVENT

END:VCALENDAR
