BEGIN:VCALENDAR
VERSION:2.0
PRODID:-//ChamberMaster//Event Calendar 2.0//EN
METHOD:PUBLISH
X-PUBLISHED-TTL:P3D
REFRESH-INTERVAL:P3D
CALSCALE:GREGORIAN
BEGIN:VEVENT
DTSTART:20150402T170000Z
DTEND:20150402T223000Z
X-MICROSOFT-CDO-ALLDAYEVENT:FALSE
SUMMARY:Rib Fundraiser
DESCRIPTION:Rib Fundraiser (Rankin Chamber\, 101 Service Drive\, Brandon) Pickup Ribs from Noon-5:30 pm in Parking Lot
X-ALT-DESC;FMTTYPE=text/html:Rib Fundraiser (Rankin Chamber\, 101 Service Drive\, Brandon) Pickup Ribs from Noon-5:30 pm in Parking Lot
LOCATION:
UID:e.1412.1899
SEQUENCE:3
DTSTAMP:20260421T185016Z
URL:https://business.rankinchamber.com/events/details/rib-fundraiser-04-02-2015-1899
END:VEVENT

END:VCALENDAR
