BEGIN:VCALENDAR
VERSION:2.0
PRODID:-//ChamberMaster//Event Calendar 2.0//EN
METHOD:PUBLISH
X-PUBLISHED-TTL:P3D
REFRESH-INTERVAL:P3D
CALSCALE:GREGORIAN
BEGIN:VEVENT
DTSTART:20120606T163000Z
DTEND:20120606T180000Z
X-MICROSOFT-CDO-ALLDAYEVENT:FALSE
SUMMARY:RRE-Team 1
DESCRIPTION:RRE-Team 1 (AJ's on Lakeland\, Flowood)
X-ALT-DESC;FMTTYPE=text/html:RRE-Team 1 (AJ&#39\;s on Lakeland\, Flowood)
LOCATION:
UID:e.1412.145
SEQUENCE:3
DTSTAMP:20260422T012243Z
URL:https://business.rankinchamber.com/events/details/rre-team-1-06-06-2012-145
END:VEVENT

END:VCALENDAR
