BEGIN:VCALENDAR
VERSION:2.0
PRODID:-//ChamberMaster//Event Calendar 2.0//EN
METHOD:PUBLISH
X-PUBLISHED-TTL:P3D
REFRESH-INTERVAL:P3D
CALSCALE:GREGORIAN
BEGIN:VEVENT
DTSTART:20120605T133000Z
DTEND:20120605T143000Z
X-MICROSOFT-CDO-ALLDAYEVENT:FALSE
SUMMARY:RRE-Team 2
DESCRIPTION:RRE-Team 2 (Corner Bakery\, 108 Market St\, Flowood)
X-ALT-DESC;FMTTYPE=text/html:RRE-Team 2 (Corner Bakery\, 108 Market St\, Flowood)
LOCATION:
UID:e.1412.143
SEQUENCE:3
DTSTAMP:20260422T012210Z
URL:https://business.rankinchamber.com/events/details/rre-team-2-06-05-2012-143
END:VEVENT

END:VCALENDAR
